BEGIN:VCALENDAR
VERSION:2.0
PRODID:-//Rising Up - ECPv6.10.1.1//NONSGML v1.0//EN
CALSCALE:GREGORIAN
METHOD:PUBLISH
X-ORIGINAL-URL:https://risingup.at
X-WR-CALDESC:Veranstaltungen für Rising Up
REFRESH-INTERVAL;VALUE=DURATION:PT1H
X-Robots-Tag:noindex
X-PUBLISHED-TTL:PT1H
BEGIN:VTIMEZONE
TZID:Europe/Vienna
BEGIN:DAYLIGHT
TZOFFSETFROM:+0100
TZOFFSETTO:+0200
TZNAME:CEST
DTSTART:20250330T010000
END:DAYLIGHT
BEGIN:STANDARD
TZOFFSETFROM:+0200
TZOFFSETTO:+0100
TZNAME:CET
DTSTART:20251026T010000
END:STANDARD
BEGIN:DAYLIGHT
TZOFFSETFROM:+0100
TZOFFSETTO:+0200
TZNAME:CEST
DTSTART:20260329T010000
END:DAYLIGHT
BEGIN:STANDARD
TZOFFSETFROM:+0200
TZOFFSETTO:+0100
TZNAME:CET
DTSTART:20261025T010000
END:STANDARD
END:VTIMEZONE
BEGIN:VEVENT
DTSTART;TZID=Europe/Vienna:20260404T100000
DTEND;TZID=Europe/Vienna:20260404T180000
DTSTAMP:20260422T142517
CREATED:20260209T190805Z
LAST-MODIFIED:20260214T050426Z
UID:10006436-1775296800-1775325600@risingup.at
SUMMARY:IM KREIS DER WEIBLICHEN KRÄFTE
DESCRIPTION:Die Starke \nWesten– Mut\, Grenzen\, innere Kraft\nDieses Seminar öffnet einen geschützten Raum\, in dem du deine Grenzen klärst und deine innere Kraft stabilisierst. Du arbeitest mit Klang\, Atem\, Bewegung\, Duft und Ritualen\, um in Begegnungen klar zu bleiben – ohne dich zu verhärten. \nWas dich erwartet\n– Zentrierung & Erdung für deinen Alltag\n– Rituale für Abgrenzung\, Entscheidung und Loslassen\n– Körperarbeit und Reflexionsräume für ein klares Nein und ein stimmiges Ja\n– Exklusiver Kleingruppenrahmen: ruhig\, klar\, ohne Druck \nWenn dich das ruft: Reserviere jetzt deinen Platz.\nKontaktformular auf www.source-praxis.at ausfüllen → bei „Worum es geht?“ das Seminar auswählen → Bestätigung per E-Mail erhalten.
URL:https://risingup.at/event/im-kreis-der-weiblichen-kraefte/
LOCATION:Weichstetten\, 4502\, Austria
CATEGORIES:Achtsamkeit,Atemarbeit,Empowerment,Meditation,Workshop | Retreat | Festival,Zeremonien & Rituale
ATTACH;FMTTYPE=image/jpeg:https://risingup.at/wp-content/uploads/2026/02/source-praxis_mini-retreat-1.jpg
END:VEVENT
BEGIN:VEVENT
DTSTART;TZID=Europe/Vienna:20260307T100000
DTEND;TZID=Europe/Vienna:20260307T180000
DTSTAMP:20260422T142517
CREATED:20260209T185459Z
LAST-MODIFIED:20260214T050302Z
UID:10006435-1772877600-1772906400@risingup.at
SUMMARY:IM KREIS DER WEIBLICHEN KRÄFTE
DESCRIPTION:Die Nährende\nSüden – Fülle\, Fürsorge\, Selbstwert \nDieses Seminar öffnet einen geschützten Raum\, in dem du dich wieder nährst – innerlich wie körperlich. Du arbeitest mit Klang\, Atem\, Bewegung\, Duft und Ritualen\, um Selbstwert und Stabilität nicht nur zu verstehen\, sondern spürbar zu verankern. \nWas dich erwartet\n– Zentrierung & Erdung für deinen Alltag\n– Rituale für Verbindung\, Vertrauen und Loslassen\n– Körperarbeit und Reflexionsräume\, die dich zurück in dein Spüren führen\n– Exklusiver Kleingruppenrahmen: ruhig\, klar\, ohne Druck \nWenn dich das ruft: Reserviere jetzt deinen Platz.\nKontaktformular auf www.source-praxis.at ausfüllen → bei „Worum es geht?“ das Seminar auswählen → Bestätigung per E-Mail erhalten.
URL:https://risingup.at/event/im-kreis-der-weiblichen-kraefte-die-naehrende/
LOCATION:Weichstetten\, 4502\, Austria
CATEGORIES:Achtsamkeit,Atemarbeit,Empowerment,Meditation,Workshop | Retreat | Festival,Zeremonien & Rituale
ATTACH;FMTTYPE=image/jpeg:https://risingup.at/wp-content/uploads/2026/02/source-praxis_mini-retreat.jpg
END:VEVENT
BEGIN:VEVENT
DTSTART;TZID=Europe/Vienna:20251121T193000
DTEND;TZID=Europe/Vienna:20251121T220000
DTSTAMP:20260422T142517
CREATED:20251012T152039Z
LAST-MODIFIED:20251012T152039Z
UID:10004684-1763753400-1763762400@risingup.at
SUMMARY:Vortrag • Täuschung im Alltag erkennen • Dr. Jonas Tögel
DESCRIPTION:Vortrag • Täuschung im Alltag erkennen • Dr. Jonas Tögel\nManipulation und Propaganda – Täuschung im Alltag erkennen\, verstehen und neutralisieren \n  \n  \nReferent: Dr. Jonas Tögel \nPropagandaforscher\, Bestsellerautor und wissenschaftlicher Mitarbeiter \nhttps://www.jonastoegel.de/ \n  \n  \nSeit mehr als 100 Jahren wird das Wissen und Können im Bereich der Massenmanipulation immer weiter verfeinert\, sodass wir im 21. Jahrhundert vor einer gigantischen\, globalen Herausforderung stehen: Modernste Manipulationsmöglichkeiten\, sogenannte Soft-Power-Techniken\, dringen in immer mehr Bereiche unserer Gesellschaft vor. \n  \nIm Vortrag bzw. Tagesseminar möchte Dr. Tögel den Menschen helfen\, Manipulation zu erkennen\, zu verstehen und zu neutralisieren. Er betont die Bedeutung von Resilienz und innerer Stärke\, um auch in schwierigen Zeiten friedlich und positiv in die Zukunft blicken zu können. Damit wir gemeinsam das zurückholen\, was am wichtigsten ist: echte Demokratie auf Augenhöhe und ein friedliches Miteinander ohne Kriege und Gewalt. \n  \nDr. Jonas Tögel ist ein renommierter Propagandaforscher\, Bestsellerautor und wissenschaftlicher Mitarbeiter an der Universität Regensburg. Er setzt sich intensiv mit den Themen Propaganda\, Manipulation und Soft-Power-Techniken auseinander. In seinen Büchern und Vorträgen legt er besonderen Wert darauf\, die Widerstandsfähigkeit der Menschen gegenüber Beeinflussung zu stärken und ihnen Werkzeuge an die Hand zu geben\, um auch in unsicheren Zeiten positiv und handlungsfähig zu bleiben \n  \nHinweis: Tagesseminar am 22. November <link> \n  \n—————————————————————- \nAlle Termine siehe www.mitsinn.org/termine \n—————————————————————- \n 
URL:https://risingup.at/event/vortrag-taeuschung-im-alltag-erkennen-dr-jonas-toegel/
LOCATION:Bruckmühle\, Bahnhofstraße 12\, Pregarten\, Niederösterreich\, 4230\, Austria
CATEGORIES:Achtsamkeit,Gesundheit allg.,Workshop | Retreat | Festival
ATTACH;FMTTYPE=image/jpeg:https://risingup.at/wp-content/uploads/2025/10/2025-11-21_Vortrag_Jonas-Toegel_flyer-Q16-9.jpg
ORGANIZER;CN="Verein mitsinn.org":MAILTO:begegnung@mitsinn.org
END:VEVENT
BEGIN:VEVENT
DTSTART;TZID=Europe/Vienna:20251004T090000
DTEND;TZID=Europe/Vienna:20251004T170000
DTSTAMP:20260422T142517
CREATED:20250508T204550Z
LAST-MODIFIED:20250606T102405Z
UID:10003687-1759568400-1759597200@risingup.at
SUMMARY:Tagesseminar • Manipulation und Propaganda • Dr. Jonas Tögel
DESCRIPTION:Seit mehr als 100 Jahren wird das Wissen und Können im Bereich der Massenmanipulation immer weiter verfeinert\, sodass wir im 21. Jahrhundert vor einer gigantischen\, globalen Herausforderung stehen: Modernste Manipulationsmöglichkeiten\, sogenannte Soft-Power-Techniken\, dringen in immer mehr Bereiche unserer Gesellschaft vor. \n  \nIm Vortrag bzw. Tagesseminar möchte Dr. Tögel den Menschen helfen\, Manipulation zu erkennen\, zu verstehen und zu neutralisieren. Er betont die Bedeutung von Resilienz und innerer Stärke\, um auch in schwierigen Zeiten friedlich und positiv in die Zukunft blicken zu können. Damit wir gemeinsam das zurückholen\, was am wichtigsten ist: echte Demokratie auf Augenhöhe und ein friedliches Miteinander ohne Kriege und Gewalt. \n  \nDr. Jonas Tögel ist ein renommierter Propagandaforscher\, Bestsellerautor und wissenschaftlicher Mitarbeiter an der Universität Regensburg. Er setzt sich intensiv mit den Themen Propaganda\, Manipulation und Soft-Power-Techniken auseinander. In seinen Büchern und Vorträgen legt er besonderen Wert darauf\, die Widerstandsfähigkeit der Menschen gegenüber Beeinflussung zu stärken und ihnen Werkzeuge an die Hand zu geben\, um auch in unsicheren Zeiten positiv und handlungsfähig zu bleiben
URL:https://risingup.at/event/tagesseminar-manipulation-und-propaganda-dr-jonas-toegel/
LOCATION:Bruckmühle\, Bahnhofstraße 12\, Pregarten\, Niederösterreich\, 4230\, Austria
CATEGORIES:Empowerment,Featured,Gesundheit allg.,Workshop | Retreat | Festival
ORGANIZER;CN="Verein mitsinn.org":MAILTO:begegnung@mitsinn.org
END:VEVENT
BEGIN:VEVENT
DTSTART;TZID=Europe/Vienna:20250913T190000
DTEND;TZID=Europe/Vienna:20250920T140000
DTSTAMP:20260422T142517
CREATED:20250624T090418Z
LAST-MODIFIED:20250624T090418Z
UID:10004118-1757790000-1758376800@risingup.at
SUMMARY:"WANDEL - ZEIT" - Ein Re-Orientierungsretreat für Frauen in Übergangszeiten
DESCRIPTION:🌿 DER RETREAT “WANDEL-ZEIT” – \nZeit in Achtsamkeit für Dich. Für das\, was sich gerade verändert. \nKennst Du das Gefühl\, irgendwo zwischen „nicht mehr“ und „noch nicht“ zu stehen? Ein Lebensabschnitt geht zu Ende – innerlich und/oder äußerlich – und Du spürst: Jetzt braucht es Erdung\, mehr Ruhe\, mehr Klarheit\, mehr Verbindung mit Dir selbst. \nGenau dafür ist WANDEL-ZEIT entstanden – ein Retreat für Frauen in Übergangsphasen. \nNicht laut\, nicht voll\, nicht überfordernd.\nSondern weich und gleichzeitig wild\, authentisch\, still und kraftspendend. \n📍 Wo: An einem magischen Ort am Lac du Salagou in Südfrankreich \n📆 Termine:\n• 13. – 20. September 2025\n• 16. – 23. Mai 2026 \nWas Dich erwartet:\n🌀 Raum zum Innehalten\, Loslassen\, Neuausrichten\n💗 Zeit für Austausch und Rückzug\n🌿 Naturgänge\, Rituale\, kreative Entfaltung\n👣 Bewegung\, Achtsamkeit\, Stille – ganz im eigenen Tempo \nFür 6–10 Frauen\, die gerade spüren: Jetzt ist Zeit\, wieder bei mir selbst anzukommen\, um mich in aller Ruhe zu stärken und neu auszurichten. \nMehr Infos zum Retreat findest du hier. \n✨ Frühbucherbonus noch bis 15. Juli – Ratenzahlung ist möglich. \nUnd bevor Du Dich entscheidest\, gibt es ein kostenfreies Kennenlerngespräch (30 Minuten) – ganz unverbindlich\, einfach zum Spüren und Fragen stellen. \n📩 Schreib mir gern eine Mail an office@praxis-bittner.at oder melde Dich unter: 0699 11055382\nIch freue mich sehr\, wenn Du dabei bist. \nHerzlich\,\nAliny \nP.S.: Kennst Du eine Frau\, für die diese Auszeit genau jetzt richtig wäre? Dann leite ihr diese Info gerne weiter 💌
URL:https://risingup.at/event/wandel-zeit-ein-re-orientierungsretreat-fuer-frauen-in-uebergangszeiten/
CATEGORIES:Achtsamkeit,Empowerment,Workshop | Retreat | Festival
ATTACH;FMTTYPE=image/jpeg:https://risingup.at/wp-content/uploads/2025/06/lac-du-salagou-1.jpeg
END:VEVENT
BEGIN:VEVENT
DTSTART;TZID=Europe/Vienna:20250829T143000
DTEND;TZID=Europe/Vienna:20250831T170000
DTSTAMP:20260422T142517
CREATED:20250711T082131Z
LAST-MODIFIED:20250711T082131Z
UID:10004417-1756477800-1756659600@risingup.at
SUMMARY:Unsichtbares sichtbar machen
DESCRIPTION:Erlerne das Austesten mittels Tensor\, Pendel oder Kinesiologie \nIn diesem praxisnahen Seminarblock bekommst du wertvolles Wissen über energetische Testmethoden und deren ethischen Einsatz vermittelt. Durch eine ausgewogene Mischung aus Theorie und Praxis erhältst du die Möglichkeit\, dein Gespür für Energien zu verfeinern und das Erlernte direkt anzuwenden.\nNach diesem Seminar kannst du…\n… zwischen Herz & Verstand unterscheiden.\n… austesten\, was dich stärkt oder schwächt.\n… mehr auf deine Wahrnehmung & Intuition vertrauen.\n… bessere Entscheidungen treffen & anderen dabei helfen.
URL:https://risingup.at/event/unsichtbares-sichtbar-machen/
LOCATION:2640 Altendorf\, Syhrn 11\, Altendorf\, Niederösterreich\, 2640\, Austria
CATEGORIES:Gesundheit allg.,Körperarbeit
ATTACH;FMTTYPE=image/jpeg:https://risingup.at/wp-content/uploads/2025/07/pendulum-242740_1280.jpg
ORGANIZER;CN="Seelen-Hafen":MAILTO:eveline.penzenleitner@gmail.com
END:VEVENT
BEGIN:VEVENT
DTSTART;TZID=Europe/Vienna:20250616T180000
DTEND;TZID=Europe/Vienna:20250616T193000
DTSTAMP:20260422T142517
CREATED:20250530T144736Z
LAST-MODIFIED:20250606T102906Z
UID:10003991-1750096800-1750102200@risingup.at
SUMMARY:MANTRA SINGEN
DESCRIPTION:Heilsames Mantra Singen nutzt die Kraft von Musik und Stimme zur Förderung von Wohlbefinden und innerer Harmonie. Im Gegensatz zu traditionellen\nGesangsaufführungen liegt der Fokus auf der Erfahrung und den positiven Effekten des Singens\, nicht auf Perfektion. Durch einfache Melodien und wiederholende Gesänge wird eine meditative Atmosphäre geschaffen\, die Stress reduziert\, die Stimmung hebt und das Immunsystem stärkt. Gruppen betonen die Gemeinschaft und Verbindung\, die das Singen fördert\, was die mentale und emotionale Gesundheit unterstützt.
URL:https://risingup.at/event/mantra-singen/
LOCATION:Ordination Dr. Lachawitz\, Neulerchenfelderstr. 14/6\, 1160 Wien\, Wien\, 1160\, Austria
CATEGORIES:Achtsamkeit,Empowerment,Musik,Yoga
ATTACH;FMTTYPE=image/jpeg:https://risingup.at/wp-content/uploads/2025/05/Bild-23-09-2020-09-40-39.jpg
ORGANIZER;CN="Renata Sarasvati Diem":MAILTO:renata_lakatus@yahoo.de
END:VEVENT
BEGIN:VEVENT
DTSTART;TZID=Europe/Vienna:20250523T173000
DTEND;TZID=Europe/Vienna:20250523T220000
DTSTAMP:20260422T142517
CREATED:20250430T132512Z
LAST-MODIFIED:20250430T160027Z
UID:10003673-1748021400-1748037600@risingup.at
SUMMARY:Kakao-Zeremonie "AWAKEN TO LIFE" Inzersdorf im Kremstal\, OÖ
DESCRIPTION:Herzlich Willkommen zur Kakao Zeremonie “Awaken to Life” im wundersamen Seminarzentrum “der Baum”\, in Inzersdorf im Kremstal\, Oberösterreich! Eine ganz besondere Erfahrung erwartet Dich! \nErlebe den Zauber einer tiefgehenden Kakao Zeremonie – ein Fest für das Leben\, als Ausdruck deiner Selbst! Tauche ein in ein bewegtes und wohltuendes Ritual\, das dein Herz öffnet\, Lebensfreude weckt und tiefe innere Glückseligkeit sowie Verbundenheit mit dir und der Welt schenkt.\n​\nGenieße hochwertigen\, zeremoniellen Edel-Kakao in einem belebenden Ritual! Awaken to Life ist eine außergewöhnliche\, bewegte Reise durch die Elemente zu uns Selbst. Mit Musik\, Tanz\, Klang\, Meditation und Energiearbeit unterstützen wir unser wahres Wesen zur Entfaltung zu kommen und öﬀnen uns für die Schönheit des Lebens. Mit viel Achtsamkeit erlauben wir unserem Herzen sich zu öﬀnen\, um unserer Umwelt auf ganz neue Weise zu begegnen. Ein heilsames Klangbad gibt Raum für Entspannung\,\nErneuerung und Integration. In einem kraftvollen Erdheilungsritual unterstützen wir den kollektiven Wandel auf der Erde. \nKakao Zeremonie Inzersdorf – Awaken to Life \nWann: Freitag 23. Mai 2025\, 17:30-22:00 Uhr \nWo: Seminarzentrum “der Baum”\, Am Inslingbach 17\, 4565 Inzersdorf im Kremstal\, OÖ\, Seminarraum “Heuboden”\, www.derbaum.net \nPreis: 50-80\,- Euro (Wertschätzung nach deinen Möglichkeiten) \nMitzubringen:\nTasse für den Kakao\, bewegungsfreundliche Kleidung\, Wasserflasche\, Matte\, Sitzkissen\, Decke \nAnmeldung Infos und Zeremonienleitung: Walter Johannes Huber\, https://www.chocolateyoga.net/kakao-zeremonien oder walter.chocolateyoga@gmail.com \nEine Teilnahme ist nur nach verbindlicher\, schriftlicher Anmeldung möglich\, da die Teilnehmerzahl begrenzt und das wertvolle Kakao-Elixier pro Person vorbereitet wird. \nVorbereitung:\nDer Kakao entfaltet seine Wirkung am besten wenn wird am Tag der Zeremonie auf den Konsum von Kaffee und tierischen Produkten verzichten und in den letzten Stunden vor der Zeremonie nichts Schweres mehr zu essen. Das Kakao-Elexier wird rein vegan sein. \nUrsprünglich entstammen Kakao Zeremonien einer uralten Tradition der Mayas und Inkas\, die jedoch für lange Zeit in Vergessenheit geraten ist. Ein Mythos besagt jedoch\, dass der Kakao immer dann als Medizin für die Menschen zurück kehrt wenn Zeiten größten Wandels gekommen sind. Und so kehrt nun auch in diesen turbulenten Zeiten der Kakao Spirit auf wundervolle Weise wieder zurück. \nKakao ist nicht nur eine der gesündesten Früchte dieses Planeten\, reich an Magnesium\, Kalzium\, Eisen und wertvollen Antioxidantien\, in entsprechender Qualität und zeremonieller Dosierung hat er vor allem auf energetischer Ebene die Qualität Herzen zu öffnen und Gefühle von Liebe und Mitgefühl hervorzubringen. Er unterstützt die Ausschüttung von Glückshormonen im Gehirn\, hilft dir Altes und Belastendes loszulassen und dich mit dir Selbst zu verbinden. \nKakao ist eine wahrlich wundersame „Medizin”. Er hat eine sehr zarte feminine Qualität. Seine psychoaktive Wirkung zeigt sich in einer wohltuenden\, herzöffnenden\, entspannenden und beglückenden Weise. Genutzt wird er auch als natürliches Antidepressivum und als belebendes Aphrotisiakum. Er zeigt dir neue Möglichkeiten auf ohne dich zu Pushen. Du allein entscheidest wie tief du dich einlassen möchtest und welche der neuen Möglichkeiten du ergreifst.
URL:https://risingup.at/event/kakao-zeremonie-awaken-to-life-inzersdorf-im-kremstal-ooe/
LOCATION:Seminarzentrum “der Baum” – Inzerdorf im Kremstal\, Am Inslingbach 17\, Inzersdorf im Kremstal\, Oberösterreich\, 4565\, Austria
CATEGORIES:Achtsamkeit,Empowerment,Klangtherapie,Musik
ATTACH;FMTTYPE=image/jpeg:https://risingup.at/wp-content/uploads/2025/04/Awaken-to-Life-scaled.jpg
ORGANIZER;CN="Chocolate Yoga &amp%3B Tantra - Walter Johannes Huber":MAILTO:walter.chocolateyoga@gmail.com
END:VEVENT
BEGIN:VEVENT
DTSTART;TZID=Europe/Vienna:20250501T110000
DTEND;TZID=Europe/Vienna:20250504T170000
DTSTAMP:20260422T142517
CREATED:20250422T082924Z
LAST-MODIFIED:20250422T085341Z
UID:10003664-1746097200-1746378000@risingup.at
SUMMARY:Sufi Workshop in Wien
DESCRIPTION:4 Tage Sufi Workshop mit Tamsin Murray:\n\nDo. 1.\, Fr. 2.\, Sa. 3. und So. 4. Mai 2025jeweils 11.00 Uhr – 17.00 Uhr\n\nIm PERFORM\, Raum „LUNA”Mariahilfer Strasse 51 (3. Hinterhof)1060 Wien\n\nJeder Tag einzeln: € 60\,Kompletter Workshop: € 200\,-\n—\nDer Sufismus ist die Wissenschaft der Seele. Er bedient sich praktischer Methoden\, um Herz\, Körper und Geist in Einklang zu bringen und zur Vollkommenheit zu führen. Er stellt den Höhepunkt uralter Praktiken we Drehtanz\, Trommeln\, Bewegung\, Tanz und Gesang dar – angepasst an den Westen\, um den Geist zu beruhigen und die Verbindung mit dem höneren Selbst zu fördern.\n*****Die Intelligenz des Herzens hatihren Ursprung in der Kraft derLiebe.„Wenn du im reinen Momentbist\, öffnen sich die Zeit und derRaum\, und der Geist in direrwacht.”\n*****\nBITTE TRAGE BEQUEME KLEIDUNG UND BRING EINEMATTE UND EIN LEICHTES MITTAGESSEN FUR DIE PAUSE MIT.
URL:https://risingup.at/event/sufi-workshop-in-wien/
LOCATION:PERFORM Raum „LUNA” Mariahilfer Strasse 51 1060 Wien\, Mariahilfer Strasse 51\, Wien\, Wien\, 1060\, Austria
CATEGORIES:Achtsamkeit,Brahmani Sacred Dance,Empowerment,Featured,Meditation,Workshop | Retreat | Festival
ATTACH;FMTTYPE=image/png:https://risingup.at/wp-content/uploads/2025/04/Vienna-Workshop-FB-2.png
ORGANIZER;CN="Sufi Foundation of America":MAILTO:margarete.eller.7@gmail.com
END:VEVENT
END:VCALENDAR